BEGIN:VCALENDAR
VERSION:2.0
PRODID:-//Tukios.com/
BEGIN:VEVENT
UID:4f7ff2f4-5146-4482-9262-52e363cf4c45@www.morellofuneralhome.com
DTSTAMP:20260423T193925Z
DTSTART:20260429T150000Z
DTEND:20260429T160000Z
SUMMARY:Calling Hour
DESCRIPTION:
URL:https://www.morellofuneralhome.com/obituaries/joseph-febbo
LOCATION: 3720 Nicholas St  Easton PA 18045
GEO:40.6704217;-75.2663978
END:VEVENT
END:VCALENDAR