BEGIN:VCALENDAR
VERSION:2.0
PRODID:-//Tukios.com/
BEGIN:VEVENT
UID:d8c2b37d-a19a-4750-ad07-bc4ba7086418@www.morellofuneralhome.com
DTSTAMP:20260423T194104Z
DTSTART:20260429T160000Z
DTEND:20260429T163000Z
SUMMARY:Memorial Service
DESCRIPTION:
URL:https://www.morellofuneralhome.com/obituaries/joseph-febbo
LOCATION: 3720 Nicholas St  Easton PA 18045
GEO:40.6704217;-75.2663978
END:VEVENT
END:VCALENDAR