BEGIN:VCALENDAR
VERSION:2.0
PRODID:-//Tukios.com/
BEGIN:VEVENT
UID:864da0f4-e93e-4252-875a-8274b384a8ec@www.morellofuneralhome.com
DTSTAMP:20260423T193619Z
DTSTART:20260429T163000Z
DTEND:20260429T173000Z
SUMMARY:Interment
DESCRIPTION:
URL:https://www.morellofuneralhome.com/obituaries/joseph-febbo
LOCATION: 3051 Green Pond Road  Easton PA 18045
GEO:40.6880818;-75.2697023
END:VEVENT
END:VCALENDAR