BEGIN:VCALENDAR
VERSION:2.0
PRODID:-//Tukios.com/
BEGIN:VEVENT
UID:591573cf-c6ad-4fe4-a746-95d3ad25c98a@www.morellofuneralhome.com
DTSTAMP:20260420T164115Z
DTSTART:20260422T150000Z
DTEND:20260422T160000Z
SUMMARY:Calling Hour
DESCRIPTION:
URL:https://www.morellofuneralhome.com/obituaries/thomas-perruso-sr
LOCATION: 3720 Nicholas St  Easton PA 18045
GEO:40.6704217;-75.2663978
END:VEVENT
END:VCALENDAR