BEGIN:VCALENDAR
VERSION:2.0
PRODID:-//Tukios.com/
BEGIN:VEVENT
UID:48baf2e1-b682-4f6a-93d9-f90dbefc0568@www.morellofuneralhome.com
DTSTAMP:20260420T163353Z
DTSTART:20260422T160000Z
DTEND:20260422T163000Z
SUMMARY:Funeral Service
DESCRIPTION:
URL:https://www.morellofuneralhome.com/obituaries/thomas-perruso-sr
LOCATION: 3720 Nicholas St  Easton PA 18045
GEO:40.6704217;-75.2663978
END:VEVENT
END:VCALENDAR