BEGIN:VCALENDAR
VERSION:2.0
PRODID:-//Tukios.com/
BEGIN:VEVENT
UID:3c294bcd-91c5-410a-8f94-2b2d63940ae8@www.morellofuneralhome.com
DTSTAMP:20260420T164237Z
DTSTART:20260422T164500Z
DTEND:20260422T171500Z
SUMMARY:Graveside Service
DESCRIPTION:
URL:https://www.morellofuneralhome.com/obituaries/thomas-perruso-sr
LOCATION: 3051 Green Pond Road  Easton PA 18045
GEO:40.6880818;-75.2697023
END:VEVENT
END:VCALENDAR